BEGIN:VCALENDAR
PRODID:-//eluceo/ical//2.0/EN
VERSION:2.0
CALSCALE:GREGORIAN
BEGIN:VEVENT
UID:b544fbd3a394305a896c88febbfee40b
DTSTAMP:20260425T153232Z
SUMMARY:Plauschmatch
DESCRIPTION:https://www.sg-kuettigen.ch/kalender/plauschmatch
DTSTART:20190907T140000
DTEND:20190907T153000
LOCATION:Schützenhaus Talmatt\, Küttigen\, Schützenhaus\, 5024 Küttigen
ORGANIZER;CN=Schützengesellschaft Küttigen:mailto:info@sg-kuettigen.ch
END:VEVENT
END:VCALENDAR
