BEGIN:VCALENDAR
PRODID:-//eluceo/ical//2.0/EN
VERSION:2.0
CALSCALE:GREGORIAN
BEGIN:VEVENT
UID:4bca1bc0d38d5b664f603f5efafc1be1
DTSTAMP:20260425T154214Z
SUMMARY:Endschiessen (1/3)
DESCRIPTION:https://www.sg-kuettigen.ch/kalender/endschiessen
DTSTART:20190928T090000
DTEND:20190928T120000
LOCATION:Schützenhaus Talmatt\, Küttigen\, Schützenhaus\, 5024 Küttigen
ORGANIZER;CN=Schützengesellschaft Küttigen:mailto:info@sg-kuettigen.ch
END:VEVENT
BEGIN:VEVENT
UID:b2a3efa508efd33ce3e68ccf3bc794fc
DTSTAMP:20260425T154214Z
SUMMARY:Endschiessen (2/3)
DESCRIPTION:https://www.sg-kuettigen.ch/kalender/endschiessen
DTSTART:20190928T133000
DTEND:20190928T160000
LOCATION:Schützenhaus Talmatt\, Küttigen\, Schützenhaus\, 5024 Küttigen
ORGANIZER;CN=Schützengesellschaft Küttigen:mailto:info@sg-kuettigen.ch
END:VEVENT
BEGIN:VEVENT
UID:f77aa6dc0531230add8badf11250cbc4
DTSTAMP:20260425T154214Z
SUMMARY:Endschiessen (3/3)
DESCRIPTION:https://www.sg-kuettigen.ch/kalender/endschiessen
DTSTART:20191006T090000
DTEND:20191006T120000
LOCATION:Schützenhaus Talmatt\, Küttigen\, Schützenhaus\, 5024 Küttigen
ORGANIZER;CN=Schützengesellschaft Küttigen:mailto:info@sg-kuettigen.ch
END:VEVENT
END:VCALENDAR
