BEGIN:VCALENDAR
PRODID:-//eluceo/ical//2.0/EN
VERSION:2.0
CALSCALE:GREGORIAN
BEGIN:VEVENT
UID:c83126cbb460e73de0ce6902cb80f40a
DTSTAMP:20260425T152642Z
SUMMARY:Ehrenmitgliederhock
DESCRIPTION:https://www.sg-kuettigen.ch/kalender/ehrenmitgliederhock
DTSTART:20191011T190000
DTEND:20191011T220000
LOCATION:Schützenhaus Talmatt\, Küttigen\, Schützenhaus\, 5024 Küttigen
ORGANIZER;CN=Schützengesellschaft Küttigen:mailto:info@sg-kuettigen.ch
END:VEVENT
END:VCALENDAR
