BEGIN:VCALENDAR
PRODID:-//eluceo/ical//2.0/EN
VERSION:2.0
CALSCALE:GREGORIAN
BEGIN:VEVENT
UID:439c975f956b421a3d079ce92c424ef3
DTSTAMP:20260425T154213Z
SUMMARY:Absenden
DESCRIPTION:https://www.sg-kuettigen.ch/kalender/absenden
DTSTART:20191123T190000
DTEND:20191123T230000
LOCATION:Restaurant Traube\, Küttigen\, Hauptstrasse 58\, 5024 Küttigen
ORGANIZER;CN=Schützengesellschaft Küttigen:mailto:info@sg-kuettigen.ch
END:VEVENT
END:VCALENDAR
