BEGIN:VCALENDAR
PRODID:-//eluceo/ical//2.0/EN
VERSION:2.0
CALSCALE:GREGORIAN
BEGIN:VEVENT
UID:d0c91ae01e366da3535e34e5a243c68e
DTSTAMP:20260425T152509Z
SUMMARY:Neujahrsapéro
DESCRIPTION:https://www.sg-kuettigen.ch/kalender/neujahrsapero
DTSTART:20200102T110000
DTEND:20200102T140000
LOCATION:Schützenhaus Talmatt\, Küttigen\, Schützenhaus\, 5024 Küttigen
ORGANIZER;CN=Schützengesellschaft Küttigen:mailto:info@sg-kuettigen.ch
END:VEVENT
END:VCALENDAR
