BEGIN:VCALENDAR
PRODID:-//eluceo/ical//2.0/EN
VERSION:2.0
CALSCALE:GREGORIAN
BEGIN:VEVENT
UID:bddc20b9351ac47267f808bf8a9c5446
DTSTAMP:20260425T152525Z
SUMMARY:Generalversammlung
DESCRIPTION:https://www.sg-kuettigen.ch/kalender/generalversammlung
DTSTART:20200221T200000
DTEND:20200221T220000
LOCATION:Schützenhaus Talmatt\, Küttigen\, Schützenhaus\, 5024 Küttigen
ORGANIZER;CN=Schützengesellschaft Küttigen:mailto:info@sg-kuettigen.ch
END:VEVENT
END:VCALENDAR
