BEGIN:VCALENDAR
PRODID:-//eluceo/ical//2.0/EN
VERSION:2.0
CALSCALE:GREGORIAN
BEGIN:VEVENT
UID:26cbd8c132ce8c137e5aee779f818102
DTSTAMP:20260425T152647Z
SUMMARY:7. Talschiessen Sulz (1/6)
DESCRIPTION:https://www.sg-kuettigen.ch/kalender/7-talschiessen-sulz
DTSTART:20220429T170000
DTEND:20220429T200000
LOCATION:Schützenhaus Sulz\, Schützenhaus\, 5085 Sulz
ORGANIZER;CN=Schützengesellschaft Küttigen:mailto:info@sg-kuettigen.ch
END:VEVENT
BEGIN:VEVENT
UID:48ae87fcce608162af72c09c2fb1be0e
DTSTAMP:20260425T152647Z
SUMMARY:7. Talschiessen Sulz (2/6)
DESCRIPTION:https://www.sg-kuettigen.ch/kalender/7-talschiessen-sulz
DTSTART:20220430T090000
DTEND:20220430T120000
LOCATION:Schützenhaus Sulz\, Schützenhaus\, 5085 Sulz
ORGANIZER;CN=Schützengesellschaft Küttigen:mailto:info@sg-kuettigen.ch
END:VEVENT
BEGIN:VEVENT
UID:95d74188732fccdda40cef33f5debcf6
DTSTAMP:20260425T152647Z
SUMMARY:7. Talschiessen Sulz (3/6)
DESCRIPTION:https://www.sg-kuettigen.ch/kalender/7-talschiessen-sulz
DTSTART:20220430T133000
DTEND:20220430T160000
LOCATION:Schützenhaus Sulz\, Schützenhaus\, 5085 Sulz
ORGANIZER;CN=Schützengesellschaft Küttigen:mailto:info@sg-kuettigen.ch
END:VEVENT
BEGIN:VEVENT
UID:b9b4860473216fa265e627b5eef1ee79
DTSTAMP:20260425T152647Z
SUMMARY:7. Talschiessen Sulz (4/6)
DESCRIPTION:https://www.sg-kuettigen.ch/kalender/7-talschiessen-sulz
DTSTART:20220501T090000
DTEND:20220501T120000
LOCATION:Schützenhaus Sulz\, Schützenhaus\, 5085 Sulz
ORGANIZER;CN=Schützengesellschaft Küttigen:mailto:info@sg-kuettigen.ch
END:VEVENT
BEGIN:VEVENT
UID:991e66067b6e8738e5d387e6215300a4
DTSTAMP:20260425T152647Z
SUMMARY:7. Talschiessen Sulz (5/6)
DESCRIPTION:https://www.sg-kuettigen.ch/kalender/7-talschiessen-sulz
DTSTART:20220507T090000
DTEND:20220507T120000
LOCATION:Schützenhaus Sulz\, Schützenhaus\, 5085 Sulz
ORGANIZER;CN=Schützengesellschaft Küttigen:mailto:info@sg-kuettigen.ch
END:VEVENT
BEGIN:VEVENT
UID:9218d35b1b73459ac04c07c6710df238
DTSTAMP:20260425T152647Z
SUMMARY:7. Talschiessen Sulz (6/6)
DESCRIPTION:https://www.sg-kuettigen.ch/kalender/7-talschiessen-sulz
DTSTART:20220507T133000
DTEND:20220507T160000
LOCATION:Schützenhaus Sulz\, Schützenhaus\, 5085 Sulz
ORGANIZER;CN=Schützengesellschaft Küttigen:mailto:info@sg-kuettigen.ch
END:VEVENT
END:VCALENDAR
