BEGIN:VCALENDAR
PRODID:-//eluceo/ical//2.0/EN
VERSION:2.0
CALSCALE:GREGORIAN
BEGIN:VEVENT
UID:1d158232beae0c5ab968b133b3ca9457
DTSTAMP:20260425T154508Z
SUMMARY:Kirchbergschiessen 2021 (1/2)
DESCRIPTION:https://www.sg-kuettigen.ch/kalender/kirchbergschiessen-2021
DTSTART:20210501T133000
DTEND:20210501T153000
LOCATION:Schützenhaus Talmatt\, Küttigen\, Schützenhaus\, 5024 Küttigen
ORGANIZER;CN=Schützengesellschaft Küttigen:mailto:info@sg-kuettigen.ch
END:VEVENT
BEGIN:VEVENT
UID:e4c1f4f597e5f5510b6834c92e539b38
DTSTAMP:20260425T154508Z
SUMMARY:Kirchbergschiessen 2021 (2/2)
DESCRIPTION:https://www.sg-kuettigen.ch/kalender/kirchbergschiessen-2021
DTSTART:20210502T093000
DTEND:20210502T113000
LOCATION:Schützenhaus Talmatt\, Küttigen\, Schützenhaus\, 5024 Küttigen
ORGANIZER;CN=Schützengesellschaft Küttigen:mailto:info@sg-kuettigen.ch
END:VEVENT
END:VCALENDAR
