BEGIN:VCALENDAR
PRODID:-//eluceo/ical//2.0/EN
VERSION:2.0
CALSCALE:GREGORIAN
BEGIN:VEVENT
UID:8d83e216683db076bd2d0e8b167ef26b
DTSTAMP:20260425T171407Z
SUMMARY:Obligatorischer Schiesstag 2020
DESCRIPTION:https://www.sg-kuettigen.ch/kalender/obligatorischer-schiesstag
 -2020
DTSTART:20200924T173000
DTEND:20200924T190000
LOCATION:Schützenhaus Talmatt\, Küttigen\, Schützenhaus\, 5024 Küttigen
ORGANIZER;CN=Schützengesellschaft Küttigen:mailto:info@sg-kuettigen.ch
END:VEVENT
END:VCALENDAR
