BEGIN:VCALENDAR
PRODID:-//eluceo/ical//2.0/EN
VERSION:2.0
CALSCALE:GREGORIAN
BEGIN:VEVENT
UID:dab18e39b6702da769dc43c71100489d
DTSTAMP:20260425T154141Z
SUMMARY:FS Training
DESCRIPTION:https://www.sg-kuettigen.ch/kalender/fs-training-1
DTSTART:20200903T180000
DTEND:20200903T200000
LOCATION:Schützenhaus Talmatt\, Küttigen\, Schützenhaus\, 5024 Küttigen
ORGANIZER;CN=Schützengesellschaft Küttigen:mailto:info@sg-kuettigen.ch
END:VEVENT
END:VCALENDAR
