BEGIN:VCALENDAR
PRODID:-//eluceo/ical//2.0/EN
VERSION:2.0
CALSCALE:GREGORIAN
BEGIN:VEVENT
UID:92557698ec525363cf6d7110138b2814
DTSTAMP:20260425T154134Z
SUMMARY:Vorschiessen Feldschiessen
DESCRIPTION:https://www.sg-kuettigen.ch/kalender/vorschiessen-feldschiessen
DTSTART:20210819T180000
DTEND:20210819T200000
LOCATION:Schützenhaus Talmatt\, Küttigen\, Schützenhaus\, 5024 Küttigen
ORGANIZER;CN=Schützengesellschaft Küttigen:mailto:info@sg-kuettigen.ch
END:VEVENT
END:VCALENDAR
