BEGIN:VCALENDAR
PRODID:-//eluceo/ical//2.0/EN
VERSION:2.0
CALSCALE:GREGORIAN
BEGIN:VEVENT
UID:f4703a9565b55c876d3c56a2f098122a
DTSTAMP:20260425T154732Z
SUMMARY:Eidgenössisches Feldschiessen 2020 (1/3)
DESCRIPTION:https://www.sg-kuettigen.ch/kalender/eidgenoessisches-feldschie
 ssen-2020
DTSTART:20200926T080000
DTEND:20200926T120000
LOCATION:Schiessanlage Büelhalde\, Densbüren\, Cholhaldeweg\, 5026 Densb
 üren
ORGANIZER;CN=Schützengesellschaft Küttigen:mailto:info@sg-kuettigen.ch
END:VEVENT
BEGIN:VEVENT
UID:2809fd62a6bfc93dd99213eb39c85990
DTSTAMP:20260425T154732Z
SUMMARY:Eidgenössisches Feldschiessen 2020 (2/3)
DESCRIPTION:https://www.sg-kuettigen.ch/kalender/eidgenoessisches-feldschie
 ssen-2020
DTSTART:20200926T133000
DTEND:20200926T170000
LOCATION:Schiessanlage Büelhalde\, Densbüren\, Cholhaldeweg\, 5026 Densb
 üren
ORGANIZER;CN=Schützengesellschaft Küttigen:mailto:info@sg-kuettigen.ch
END:VEVENT
BEGIN:VEVENT
UID:770bf80827d8087b47032ac9f8a6c460
DTSTAMP:20260425T154732Z
SUMMARY:Eidgenössisches Feldschiessen 2020 (3/3)
DESCRIPTION:https://www.sg-kuettigen.ch/kalender/eidgenoessisches-feldschie
 ssen-2020
DTSTART:20200927T090000
DTEND:20200927T120000
LOCATION:Schiessanlage Büelhalde\, Densbüren\, Cholhaldeweg\, 5026 Densb
 üren
ORGANIZER;CN=Schützengesellschaft Küttigen:mailto:info@sg-kuettigen.ch
END:VEVENT
END:VCALENDAR
